BEGIN:VCALENDAR
VERSION:2.0
CALSCALE:GREGORIAN
PRODID:-//Diputació de Barcelona//DibaCMS//EN
BEGIN:VEVENT
UID:2402
DTSTAMP:20260420T011718
DTSTART:20230524T193000
DTEND:20230524T210000
SUMMARY:La Rella: Taules de debat 2023
LOCATION:Sala Polivalent del Centre de Cultura - Carrer Major, 4 segon pis (entrada per l'escala o ascensor del corredor 1 d'octubre) 
METHOD:PUBLISH
X-WR-CALNAME:perafita@perafita.cat
X-WR-TIMEZONE:Europe/Madrid
DESCRIPTION:Com va fer el 2019, la revista La Rella torna a convidar a dos dels membres de cadascuna de les candidatures que es presenten a les eleccions d'enguany per debatre sobre les seves propostes i contrastar opinions.

URI:https://www.perafita.cat/actualitat/agenda/la-rella-taules-de-debat-2023.html
CLASS:PUBLIC
END:VEVENT
END:VCALENDAR
