BEGIN:VCALENDAR
VERSION:2.0
CALSCALE:GREGORIAN
PRODID:-//Diputació de Barcelona//DibaCMS//EN
BEGIN:VEVENT
UID:2398
DTSTAMP:20260419T202322
DTSTART:20230521T120000
DTEND:20230521T140000
SUMMARY:Fem poble, estem a punt!
LOCATION:Plaça de Sant Antoni 
METHOD:PUBLISH
X-WR-CALNAME:perafita@perafita.cat
X-WR-TIMEZONE:Europe/Madrid
DESCRIPTION:Presentació de la candidatura del PAP.

URI:https://www.perafita.cat/actualitat/agenda/fem-poble-estem-a-punt.html
CLASS:PUBLIC
END:VEVENT
END:VCALENDAR
