BEGIN:VCALENDAR
VERSION:2.0
CALSCALE:GREGORIAN
PRODID:-//Diputació de Barcelona//DibaCMS//EN
BEGIN:VEVENT
UID:2388
DTSTAMP:20260419T223102
DTSTART:20230526T180000
DTEND:20230526T200000
SUMMARY:"Els oficis perduts"
LOCATION:biblioteca municipal 
METHOD:PUBLISH
X-WR-CALNAME:perafita@perafita.cat
X-WR-TIMEZONE:Europe/Madrid
DESCRIPTION:Xerrada a càrrec de l'escriptor del berguedà, Ramon Soler i Riba. Divendres 26 de maig a les 18 h.

URI:https://www.perafita.cat/actualitat/agenda/els-oficis-perduts.html
CLASS:PUBLIC
END:VEVENT
END:VCALENDAR
