BEGIN:VCALENDAR
VERSION:2.0
CALSCALE:GREGORIAN
PRODID:-//Diputació de Barcelona//DibaCMS//EN
BEGIN:VEVENT
UID:2382
DTSTAMP:20260419T202223
DTSTART:20230423T090000
DTEND:20230423T180000
SUMMARY:Sant Jordi 2023
LOCATION:Plaça de Sant Antoni 
METHOD:PUBLISH
X-WR-CALNAME:perafita@perafita.cat
X-WR-TIMEZONE:Europe/Madrid
DESCRIPTION:Parades de roses i llibres, i estenedors amb els treballs dels nens i nenes de l'escola.

URI:https://www.perafita.cat/actualitat/agenda/sant-jordi-2023.html
CLASS:PUBLIC
END:VEVENT
END:VCALENDAR
