BEGIN:VCALENDAR
VERSION:2.0
CALSCALE:GREGORIAN
PRODID:-//Diputació de Barcelona//DibaCMS//EN
BEGIN:VEVENT
UID:2381
DTSTAMP:20260419T202212
DTSTART:20230505T190000
DTEND:20230505T203000
SUMMARY:Presentació del llibre "Lluçanès", de Salvador Vilà
LOCATION:Sala Polivalent del Centre de Cultura 
METHOD:PUBLISH
X-WR-CALNAME:perafita@perafita.cat
X-WR-TIMEZONE:Europe/Madrid
DESCRIPTION:Presentació de la guia d'itineraris "Lluçanès", de Salvador Vilà Caralt.

URI:https://www.perafita.cat/actualitat/agenda/presentacio-del-llibre-llucanes-de-salvador-vila.html
CLASS:PUBLIC
END:VEVENT
END:VCALENDAR
