BEGIN:VCALENDAR
VERSION:2.0
CALSCALE:GREGORIAN
PRODID:-//Diputació de Barcelona//DibaCMS//EN
BEGIN:VEVENT
UID:2362
DTSTAMP:20260419T223019
DTSTART:20230308T090000
DTEND:20230308T200000
SUMMARY:8M
LOCATION:Plaça de Sant Antoni 
METHOD:PUBLISH
X-WR-CALNAME:perafita@perafita.cat
X-WR-TIMEZONE:Europe/Madrid
DESCRIPTION:"Ens han educat per a ser perfectes sense adonar-se'n que som molt millors quan som autentiques". -Edithsme-

URI:https://www.perafita.cat/actualitat/agenda/2362-8m.html
CLASS:PUBLIC
END:VEVENT
END:VCALENDAR
