BEGIN:VCALENDAR
VERSION:2.0
CALSCALE:GREGORIAN
PRODID:-//Diputació de Barcelona//DibaCMS//EN
BEGIN:VEVENT
UID:2347
DTSTAMP:20260419T204912
DTSTART:20230117T000000
DTEND:20230117T000000
SUMMARY:La Trebinella presenta...
LOCATION:Pavelló municipal 
METHOD:PUBLISH
X-WR-CALNAME:perafita@perafita.cat
X-WR-TIMEZONE:Europe/Madrid
DESCRIPTION:La Trebinella presenta la comèdia "Primer primera" de Jordi Santasusagna. El divendres 3 i 18 de febrer al Pavelló.

URI:https://www.perafita.cat/actualitat/agenda/la-trebinella-presenta.html
CLASS:PUBLIC
END:VEVENT
END:VCALENDAR
