BEGIN:VCALENDAR
VERSION:2.0
CALSCALE:GREGORIAN
PRODID:-//Diputació de Barcelona//DibaCMS//EN
BEGIN:VEVENT
UID:2343
DTSTAMP:20260419T215830
DTSTART:20230105T183000
DTEND:20230105T210000
SUMMARY:Cavalcada reial 2023
LOCATION:Plaça de Sant Antoni 
METHOD:PUBLISH
X-WR-CALNAME:perafita@perafita.cat
X-WR-TIMEZONE:Europe/Madrid
DESCRIPTION:Arriben els Reis a Perafita! Rebuda a la Plaça de Sant Antoni. De 15:30 a 16:30 recollida de regals al Niu.

URI:https://www.perafita.cat/actualitat/agenda/cavalcada-reial-2023.html
CLASS:PUBLIC
END:VEVENT
END:VCALENDAR
