BEGIN:VCALENDAR
VERSION:2.0
CALSCALE:GREGORIAN
PRODID:-//Diputació de Barcelona//DibaCMS//EN
BEGIN:VEVENT
UID:2330
DTSTAMP:20260419T235030
DTSTART:20221220T090000
DTEND:20221220T170000
SUMMARY:Cantada de Nadales
LOCATION:
METHOD:PUBLISH
X-WR-CALNAME:perafita@perafita.cat
X-WR-TIMEZONE:Europe/Madrid
DESCRIPTION:Cantada de Nadales organitzada per l'Escola Heurom. Ruta per Perafita.

URI:https://www.perafita.cat/actualitat/agenda/cantada-de-nadales.html
CLASS:PUBLIC
END:VEVENT
END:VCALENDAR
