BEGIN:VCALENDAR
VERSION:2.0
CALSCALE:GREGORIAN
PRODID:-//Diputació de Barcelona//DibaCMS//EN
BEGIN:VEVENT
UID:2326
DTSTAMP:20260419T234031
DTSTART:20221210T110000
DTEND:20221210T130000
SUMMARY:Taller cianotipia
LOCATION:Espai d'art, carrer Major número 25, Perafita 
METHOD:PUBLISH
X-WR-CALNAME:perafita@perafita.cat
X-WR-TIMEZONE:Europe/Madrid
DESCRIPTION:
URI:https://www.perafita.cat/actualitat/agenda/taller-cianotipia.html
CLASS:PUBLIC
END:VEVENT
END:VCALENDAR
