BEGIN:VCALENDAR
VERSION:2.0
CALSCALE:GREGORIAN
PRODID:-//Diputació de Barcelona//DibaCMS//EN
BEGIN:VEVENT
UID:2306
DTSTAMP:20260419T220009
DTSTART:20221110T200000
DTEND:20221110T210000
SUMMARY:Xerrada online "FAMÍLIA, JOVES I DROGUES"
LOCATION:
METHOD:PUBLISH
X-WR-CALNAME:perafita@perafita.cat
X-WR-TIMEZONE:Europe/Madrid
DESCRIPTION:Xerrada: "Família, joves i drogues" que es portarà a terme el dijous 10 de novembre de  a les 8 del vespre en format on line i que va adreçada a famílies amb fills i filles joves i adolescents.

 

Reflexionarem sobre com abordar el tema de les drogues fixant-nos en les característiques de l’adolescència com a etapa de vida i amb l’educació per a la responsabilitat i prevenció com a eix principal. Parlarem sobre com parlar sobre drogues a casa i sobre com actuar davant d’un possible consum (què fer i què no fer). Finalment es donaran recursos on adreçar-se.  

 

Les inscripcions ja estan obertes al següent enllaç: https://forms.gle/FGa2Jw8M79xKxww87

 

La xerrada va a càrrec d'Energy Control ADB (Associació Benestar i Desenvolupament).

URI:https://www.perafita.cat/actualitat/agenda/xerrada-online-familia-joves-i-drogues.html
CLASS:PUBLIC
END:VEVENT
END:VCALENDAR
