BEGIN:VCALENDAR
VERSION:2.0
CALSCALE:GREGORIAN
PRODID:-//Diputació de Barcelona//DibaCMS//EN
BEGIN:VEVENT
UID:2305
DTSTAMP:20260419T234257
DTSTART:20221112T000000
DTEND:20221127T000000
SUMMARY:Torneig de pàdel
LOCATION:Pavelló municipal 
METHOD:PUBLISH
X-WR-CALNAME:perafita@perafita.cat
X-WR-TIMEZONE:Europe/Madrid
DESCRIPTION:Torneig de pàdel masculí i femení en motiu de la Marató de TV3.

URI:https://www.perafita.cat/actualitat/agenda/torneig-de-padel.html
CLASS:PUBLIC
END:VEVENT
END:VCALENDAR
