BEGIN:VCALENDAR
VERSION:2.0
CALSCALE:GREGORIAN
PRODID:-//Diputació de Barcelona//DibaCMS//EN
BEGIN:VEVENT
UID:2303
DTSTAMP:20260419T234145
DTSTART:20221029T103000
DTEND:20221029T123000
SUMMARY:Elaboració d'un xarop pel refredat
LOCATION:Sala Polivalent del Centre de Cultura 
METHOD:PUBLISH
X-WR-CALNAME:perafita@perafita.cat
X-WR-TIMEZONE:Europe/Madrid
DESCRIPTION:El dissabte 29 d'octubre es realitzarà un taller d'elaboració d'un xarop pel refredat amb plantes remeieres de les nostres contrades, en el marc de Màgia, Bruixes i Dones sàvies al Lluçanès. Les places són limitades. Cal inscriure's a www.llucanes.cat/calendari-2022/octubre/ 

URI:https://www.perafita.cat/actualitat/agenda/elaboracio-dun-xarop-pel-refredat.html
CLASS:PUBLIC
END:VEVENT
END:VCALENDAR
