BEGIN:VCALENDAR
VERSION:2.0
CALSCALE:GREGORIAN
PRODID:-//Diputació de Barcelona//DibaCMS//EN
BEGIN:VEVENT
UID:2291
DTSTAMP:20260419T234107
DTSTART:20221011T110000
DTEND:20221011T123000
SUMMARY:"Anades i vingudes de l'Amades"
LOCATION:Escola Heurom de Perafita 
METHOD:PUBLISH
X-WR-CALNAME:perafita@perafita.cat
X-WR-TIMEZONE:Europe/Madrid
DESCRIPTION:El bibliobús ens porta l'espectacle "Anades i vingudes de l'Amades" de Rah-mon Roma.

URI:https://www.perafita.cat/actualitat/agenda/anades-i-vingudes-de-lamades.html
CLASS:PUBLIC
END:VEVENT
END:VCALENDAR
