BEGIN:VCALENDAR
VERSION:2.0
CALSCALE:GREGORIAN
PRODID:-//Diputació de Barcelona//DibaCMS//EN
BEGIN:VEVENT
UID:2278
DTSTAMP:20260419T215936
DTSTART:20220828T213000
DTEND:20220828T230000
SUMMARY:Processó de Sant Agustí
LOCATION:Plaça de Sant Antoni 
METHOD:PUBLISH
X-WR-CALNAME:perafita@perafita.cat
X-WR-TIMEZONE:Europe/Madrid
DESCRIPTION:Processó de Sant Agustí. A la Tornada hi haurà coca i cava. Cal portar espelmes.

URI:https://www.perafita.cat/actualitat/agenda/2278-processo-de-sant-agusti.html
CLASS:PUBLIC
END:VEVENT
END:VCALENDAR
