BEGIN:VCALENDAR
VERSION:2.0
CALSCALE:GREGORIAN
PRODID:-//Diputació de Barcelona//DibaCMS//EN
BEGIN:VEVENT
UID:2256
DTSTAMP:20260419T234930
DTSTART:20220702T180000
DTEND:20220702T203000
SUMMARY:Presentació de l'audiovisual interactiu Perafita 3.0
LOCATION:Carretera Vella, s/n 08589 Perafita
METHOD:PUBLISH
X-WR-CALNAME:perafita@perafita.cat
X-WR-TIMEZONE:Europe/Madrid
DESCRIPTION:Presentació de l'audiovisual interactiu Perafita 3.0, del Grup d' Història i Memòria.

URI:https://www.perafita.cat/actualitat/agenda/presentacio-de-laudiovisual-interactiu-perafita-30.html
CLASS:PUBLIC
END:VEVENT
END:VCALENDAR
