BEGIN:VCALENDAR
VERSION:2.0
CALSCALE:GREGORIAN
PRODID:-//Diputació de Barcelona//DibaCMS//EN
BEGIN:VEVENT
UID:2244
DTSTAMP:20260419T222341
DTSTART:20220617T213000
DTEND:20220618T010000
SUMMARY:El cel estrellat de Perafita
LOCATION:Sala polivalent del Centre de Cultura 
METHOD:PUBLISH
X-WR-CALNAME:perafita@perafita.cat
X-WR-TIMEZONE:Europe/Madrid
DESCRIPTION:Activitat d'astronomia per a tots els públics.

URI:https://www.perafita.cat/actualitat/agenda/el-cel-estrellat-de-perafita.html
CLASS:PUBLIC
END:VEVENT
END:VCALENDAR
