BEGIN:VCALENDAR
VERSION:2.0
CALSCALE:GREGORIAN
PRODID:-//Diputació de Barcelona//DibaCMS//EN
BEGIN:VEVENT
UID:2233
DTSTAMP:20260419T235236
DTSTART:20220423T100000
DTEND:20220423T180000
SUMMARY:Joc Art en Joia
LOCATION:El Niu 
METHOD:PUBLISH
X-WR-CALNAME:perafita@perafita.cat
X-WR-TIMEZONE:Europe/Madrid
DESCRIPTION:Exposició de joies de l'artista Júlia Ortega Canalda. El dissabte 23 d'abril a la sala d'exposicions El Niu. De 10 a 18h

URI:https://www.perafita.cat/actualitat/agenda/joc-art-en-joia.html
CLASS:PUBLIC
END:VEVENT
END:VCALENDAR
