BEGIN:VCALENDAR
VERSION:2.0
CALSCALE:GREGORIAN
PRODID:-//Diputació de Barcelona//DibaCMS//EN
BEGIN:VEVENT
UID:2228
DTSTAMP:20260419T235046
DTSTART:20220419T183000
DTEND:20220419T200000
SUMMARY:Xerrada online FILLS I FILLES PROTAGONISTES DE LES SEVES VIDES
LOCATION:
METHOD:PUBLISH
X-WR-CALNAME:perafita@perafita.cat
X-WR-TIMEZONE:Europe/Madrid
DESCRIPTION:Us adjuntem la informació d'una xerrada online destinada a totes les famílies amb fills i filles a partir de 12 anys.

Serà el dimarts 19 d'abril a les 18:30

Porta per nom FILLS I FILLES PROTAGONISTES DE LES SEVES VIDES i tracta, entre altres, sobre com potenciar l'autonomia dels fills i filles.

URI:https://www.perafita.cat/actualitat/agenda/xerrada-online-fills-i-filles-protagonistes-de-les-seves-vides.html
CLASS:PUBLIC
END:VEVENT
END:VCALENDAR
