BEGIN:VCALENDAR
VERSION:2.0
CALSCALE:GREGORIAN
PRODID:-//Diputació de Barcelona//DibaCMS//EN
BEGIN:VEVENT
UID:2225
DTSTAMP:20260420T042418
DTSTART:20220428T103000
DTEND:20220428T113000
SUMMARY:"Fredrick"
LOCATION:Escola Bressol Petit Heurom 
METHOD:PUBLISH
X-WR-CALNAME:perafita@perafita.cat
X-WR-TIMEZONE:Europe/Madrid
DESCRIPTION:Espectacle a càrrec de Marta Esmarats

URI:https://www.perafita.cat/actualitat/agenda/fredrick.html
CLASS:PUBLIC
END:VEVENT
END:VCALENDAR
