BEGIN:VCALENDAR
VERSION:2.0
CALSCALE:GREGORIAN
PRODID:-//Diputació de Barcelona//DibaCMS//EN
BEGIN:VEVENT
UID:2217
DTSTAMP:20260420T042229
DTSTART:20220305T093000
DTEND:20220308T200000
SUMMARY:8M
LOCATION:
METHOD:PUBLISH
X-WR-CALNAME:perafita@perafita.cat
X-WR-TIMEZONE:Europe/Madrid
DESCRIPTION:Actes en motiu del Dia Internacional de la Dona

URI:https://www.perafita.cat/actualitat/agenda/8m.html
CLASS:PUBLIC
END:VEVENT
END:VCALENDAR
