BEGIN:VCALENDAR
VERSION:2.0
CALSCALE:GREGORIAN
PRODID:-//Diputació de Barcelona//DibaCMS//EN
BEGIN:VEVENT
UID:2200
DTSTAMP:20260419T235107
DTSTART:20220203T210000
DTEND:20220203T230000
SUMMARY:Tast del Cafè del Mig
LOCATION:
METHOD:PUBLISH
X-WR-CALNAME:perafita@perafita.cat
X-WR-TIMEZONE:Europe/Madrid
DESCRIPTION:En motiu de la Candelera, el Cafè del Mig organitza, com cada any, el Tast. Inscripcions fins el dimecres 2 de febrer.

URI:https://www.perafita.cat/actualitat/agenda/tast-del-cafe-del-mig.html
CLASS:PUBLIC
END:VEVENT
END:VCALENDAR
