BEGIN:VCALENDAR
VERSION:2.0
CALSCALE:GREGORIAN
PRODID:-//Diputació de Barcelona//DibaCMS//EN
BEGIN:VEVENT
UID:2163
DTSTAMP:20260420T014122
DTSTART:20211015T170000
DTEND:20211015T200000
SUMMARY:Revetlla de Sant Galderic
LOCATION:Plaça de Sant Antoni 
METHOD:PUBLISH
X-WR-CALNAME:perafita@perafita.cat
X-WR-TIMEZONE:Europe/Madrid
DESCRIPTION:Revetlla de Sant Galderic; exposicions, activitats lúdiques, foc i música. Us hi esperem!

URI:https://www.perafita.cat/actualitat/agenda/revetlla-de-sant-galderic.html
CLASS:PUBLIC
END:VEVENT
END:VCALENDAR
