BEGIN:VCALENDAR
VERSION:2.0
CALSCALE:GREGORIAN
PRODID:-//Diputació de Barcelona//DibaCMS//EN
BEGIN:VEVENT
UID:2150
DTSTAMP:20260420T024826
DTSTART:20210912T123000
DTEND:20210912T140000
SUMMARY:Diada Nacional al Lluçanès 2021. Homenatge a Jaume Puig de Perafita i els seus fills
LOCATION:Plaça de Sant Antoni 
METHOD:PUBLISH
X-WR-CALNAME:perafita@perafita.cat
X-WR-TIMEZONE:Europe/Madrid
DESCRIPTION:Acte commemoratiu de la Diada Nacional de Catalunya, diumenge 12 de setembre a 2/4 d'una a la plaça Sant Antoni.

URI:https://www.perafita.cat/actualitat/agenda/diada-nacional-al-llucanes-2021-homenatge-a-jaume-puig-de-perafita-i-els-seus-fills.html
CLASS:PUBLIC
END:VEVENT
END:VCALENDAR
