BEGIN:VCALENDAR
VERSION:2.0
CALSCALE:GREGORIAN
PRODID:-//Diputació de Barcelona//DibaCMS//EN
BEGIN:VEVENT
UID:2136
DTSTAMP:20260420T024642
DTSTART:20210829T173000
DTEND:20210829T200000
SUMMARY:27ª Trobada d'acordionistes 
LOCATION:Carretera Vella, s/n 08589 Perafita
METHOD:PUBLISH
X-WR-CALNAME:perafita@perafita.cat
X-WR-TIMEZONE:Europe/Madrid
DESCRIPTION:27ª Trobada d'acordionistes de Perafita, al pavelló municipal, a 2/4 de 6 de la tarda. Clourà l'acte Margarita Torner, acordionista i directora de l'Escola de Música de Puigcerdà.

Amb la col.laboració de l'Ajuntament de Perafita.

URI:https://www.perafita.cat/actualitat/agenda/27a-trobada-dacordionistes-.html
CLASS:PUBLIC
END:VEVENT
END:VCALENDAR
