BEGIN:VCALENDAR
VERSION:2.0
CALSCALE:GREGORIAN
PRODID:-//Diputació de Barcelona//DibaCMS//EN
BEGIN:VEVENT
UID:2126
DTSTAMP:20260420T024712
DTSTART:20210628T210000
DTEND:20210629T010000
SUMMARY:Revetlla de Sant Pere
LOCATION:Plaça de Sant Antoni 
METHOD:PUBLISH
X-WR-CALNAME:perafita@perafita.cat
X-WR-TIMEZONE:Europe/Madrid
DESCRIPTION:Encesa de la foguera de Sant Pere i sopar popular.

URI:https://www.perafita.cat/actualitat/agenda/2126-revetlla-de-sant-pere.html
CLASS:PUBLIC
END:VEVENT
END:VCALENDAR
