BEGIN:VCALENDAR
VERSION:2.0
CALSCALE:GREGORIAN
PRODID:-//Diputació de Barcelona//DibaCMS//EN
BEGIN:VEVENT
UID:2124
DTSTAMP:20260420T024848
DTSTART:20210623T200000
DTEND:20210624T010000
SUMMARY:Revetlla de Sant Joan
LOCATION:Plaça de Sant Antoni 
METHOD:PUBLISH
X-WR-CALNAME:perafita@perafita.cat
X-WR-TIMEZONE:Europe/Madrid
DESCRIPTION:A partir de les vuit del vespre, Revetlla de Sant Joan a càrrec de Poble Actiu de Perafita.

URI:https://www.perafita.cat/actualitat/agenda/2124-revetlla-de-sant-joan.html
CLASS:PUBLIC
END:VEVENT
END:VCALENDAR
