BEGIN:VCALENDAR
VERSION:2.0
CALSCALE:GREGORIAN
PRODID:-//Diputació de Barcelona//DibaCMS//EN
BEGIN:VEVENT
UID:2123
DTSTAMP:20260420T011734
DTSTART:20210626T100000
DTEND:20210626T120000
SUMMARY:Lluçanès, Barroc i Neoclàssic
LOCATION:Església de Sant Pere de Perafita 
METHOD:PUBLISH
X-WR-CALNAME:perafita@perafita.cat
X-WR-TIMEZONE:Europe/Madrid
DESCRIPTION:Visita guiada a càrrec de Dani Font. Imprescindible inscripció prèvia. 

URI:https://www.perafita.cat/actualitat/agenda/llucanes-barroc-i-neoclassic.html
CLASS:PUBLIC
END:VEVENT
END:VCALENDAR
