BEGIN:VCALENDAR
VERSION:2.0
CALSCALE:GREGORIAN
PRODID:-//Diputació de Barcelona//DibaCMS//EN
BEGIN:VEVENT
UID:2115
DTSTAMP:20260420T060700
DTSTART:20210525T090000
DTEND:20210528T140000
SUMMARY:Tot un món de pedra seca
LOCATION:"El Niu" 
METHOD:PUBLISH
X-WR-CALNAME:perafita@perafita.cat
X-WR-TIMEZONE:Europe/Madrid
DESCRIPTION:Exposició gratuïta "Tot un món de pedra seca". De dimarts 25 de maig a divendres 28 de maig de 9h a 14h.

URI:https://www.perafita.cat/actualitat/agenda/tot-un-mon-de-pedra-seca.html
CLASS:PUBLIC
END:VEVENT
END:VCALENDAR
