BEGIN:VCALENDAR
VERSION:2.0
CALSCALE:GREGORIAN
PRODID:-//Diputació de Barcelona//DibaCMS//EN
BEGIN:VEVENT
UID:2107
DTSTAMP:20260420T011530
DTSTART:20210523T093000
DTEND:20210523T170000
SUMMARY:Jornades d'orientació en família al Lluçanès
LOCATION:
METHOD:PUBLISH
X-WR-CALNAME:perafita@perafita.cat
X-WR-TIMEZONE:Europe/Madrid
DESCRIPTION:La jornada d'orientació serà entre els municipis de Lluçà, Perafita i Sant Martí d'Albars. Les sortides seran esglaonades cada 10 minuts entre les 9:00h i les 12:30h. Cal inscripció prèvia.

URI:https://www.perafita.cat/actualitat/agenda/jornades-dorientacio-en-familia-al-llucanes.html
CLASS:PUBLIC
END:VEVENT
END:VCALENDAR
