BEGIN:VCALENDAR
VERSION:2.0
CALSCALE:GREGORIAN
PRODID:-//Diputació de Barcelona//DibaCMS//EN
BEGIN:VEVENT
UID:2094
DTSTAMP:20260420T074529
DTSTART:20210423T080000
DTEND:20210423T190000
SUMMARY:Sant Jordi
LOCATION:Plaça de Sant Antoni 
METHOD:PUBLISH
X-WR-CALNAME:perafita@perafita.cat
X-WR-TIMEZONE:Europe/Madrid
DESCRIPTION:Divendres 23 d'abril, de 8 a 19h, vine a celebrar el dia del llibre i la rosa!

URI:https://www.perafita.cat/actualitat/agenda/sant-jordi.html
CLASS:PUBLIC
END:VEVENT
END:VCALENDAR
