BEGIN:VCALENDAR
VERSION:2.0
CALSCALE:GREGORIAN
PRODID:-//Diputació de Barcelona//DibaCMS//EN
BEGIN:VEVENT
UID:2090
DTSTAMP:20260425T210110
DTSTART:20210414T190000
DTEND:20210414T203000
SUMMARY:Presentació del llibre "De zero a quatre-mil seixanta-un metres"
LOCATION:Plaça de Sant Antoni 
METHOD:PUBLISH
X-WR-CALNAME:perafita@perafita.cat
X-WR-TIMEZONE:Europe/Madrid
DESCRIPTION:Presentació del llibre d'Irene Gonzalo el dimecres 14 d'abril a les 19H

URI:https://www.perafita.cat/actualitat/agenda/presentacio-del-llibre-de-zero-a-quatre-mil-seixanta-un-metres.html
CLASS:PUBLIC
END:VEVENT
END:VCALENDAR
