BEGIN:VCALENDAR
VERSION:2.0
CALSCALE:GREGORIAN
PRODID:-//Diputació de Barcelona//DibaCMS//EN
BEGIN:VEVENT
UID:2079
DTSTAMP:20260420T011845
DTSTART:20210430T173000
DTEND:20210430T190000
SUMMARY:En Bum i el llibre màgic de les fades
LOCATION:Biblioteca Municipal 
METHOD:PUBLISH
X-WR-CALNAME:perafita@perafita.cat
X-WR-TIMEZONE:Europe/Madrid
DESCRIPTION:Vine a gaudir de les aventures del Bum de la mà de la Companyia Homenots!

URI:https://www.perafita.cat/actualitat/agenda/en-bum-i-el-llibre-magic-de-les-fades.html
CLASS:PUBLIC
END:VEVENT
END:VCALENDAR
