BEGIN:VCALENDAR
VERSION:2.0
CALSCALE:GREGORIAN
PRODID:-//Diputació de Barcelona//DibaCMS//EN
BEGIN:VEVENT
UID:2071
DTSTAMP:20260420T015420
DTSTART:20210308T000000
DTEND:20210309T000000
SUMMARY:8-M Dia internacional de les dones al Lluçanès
LOCATION:
METHOD:PUBLISH
X-WR-CALNAME:perafita@perafita.cat
X-WR-TIMEZONE:Europe/Madrid
DESCRIPTION:Iniciativa: Ser dona vol dir...per a una reflexió conjunta a l'arbre dels desitjos.

Durant tot el dia a la Plaça St.Antoni

URI:https://www.perafita.cat/actualitat/agenda/8-m-dia-internacional-de-les-dones-al-llucanes.html
CLASS:PUBLIC
END:VEVENT
END:VCALENDAR
