BEGIN:VCALENDAR
VERSION:2.0
CALSCALE:GREGORIAN
PRODID:-//Diputació de Barcelona//DibaCMS//EN
BEGIN:VEVENT
UID:2045
DTSTAMP:20260420T032530
DTSTART:20210105T180000
DTEND:20210105T200000
SUMMARY:Cavalcada Reial
LOCATION:Plaça de Sant Antoni 
METHOD:PUBLISH
X-WR-CALNAME:perafita@perafita.cat
X-WR-TIMEZONE:Europe/Madrid
DESCRIPTION:Dimarts 5 de gener a les sis de la tarda, arribada dels Reis d'Orient.

URI:https://www.perafita.cat/actualitat/agenda/cavalcada-reial.html
CLASS:PUBLIC
END:VEVENT
END:VCALENDAR
