BEGIN:VCALENDAR
VERSION:2.0
CALSCALE:GREGORIAN
PRODID:-//Diputació de Barcelona//DibaCMS//EN
BEGIN:VEVENT
UID:2044
DTSTAMP:20260422T102933
DTSTART:20201223T000000
DTEND:20210108T000000
SUMMARY:Mesures COVID nadal
LOCATION:
METHOD:PUBLISH
X-WR-CALNAME:perafita@perafita.cat
X-WR-TIMEZONE:Europe/Madrid
DESCRIPTION:Aquestes són les noves mesures per frenar la pandèmia durant les festes de nadal.

URI:https://www.perafita.cat/actualitat/agenda/2044-mesures-covid-nadal.html
CLASS:PUBLIC
END:VEVENT
END:VCALENDAR
