BEGIN:VCALENDAR
VERSION:2.0
CALSCALE:GREGORIAN
PRODID:-//Diputació de Barcelona//DibaCMS//EN
BEGIN:VEVENT
UID:2040
DTSTAMP:20260420T074218
DTSTART:20201228T160000
DTEND:20201228T180000
SUMMARY:Tir amb arc, Valors up viu l'esport
LOCATION:Carretera Vella, s/n 08589 Perafita
METHOD:PUBLISH
X-WR-CALNAME:perafita@perafita.cat
X-WR-TIMEZONE:Europe/Madrid
DESCRIPTION:Taller d'iniciació al tir amb arc per a nens i nenes, joves i adults. A partir de 4 anys. Inscripció obligatòria a l'Ajuntament de Perafita fins el dia 22 de desembre. Places limitades.

URI:https://www.perafita.cat/actualitat/agenda/tir-amb-arc-valors-up-viu-lesport.html
CLASS:PUBLIC
END:VEVENT
END:VCALENDAR
