BEGIN:VCALENDAR
VERSION:2.0
CALSCALE:GREGORIAN
PRODID:-//Diputació de Barcelona//DibaCMS//EN
BEGIN:VEVENT
UID:2036
DTSTAMP:20260420T042306
DTSTART:20201221T090000
DTEND:20201221T130000
SUMMARY:Carta dels Patges dels Tres Reis d'Orient als nens de Perafita
LOCATION:Carretera Vella, s/n 08589 Perafita
METHOD:PUBLISH
X-WR-CALNAME:perafita@perafita.cat
X-WR-TIMEZONE:Europe/Madrid
DESCRIPTION:Degut a les mesures de prevenció de la COVID-19, els patges reials aniran a l'escola a buscar la carta dels reis d'Orient.

URI:https://www.perafita.cat/actualitat/agenda/2036-carta-dels-patges-dels-tres-reis-dorient-als-nens-de-perafita.html
CLASS:PUBLIC
END:VEVENT
END:VCALENDAR
