BEGIN:VCALENDAR
VERSION:2.0
CALSCALE:GREGORIAN
PRODID:-//Diputació de Barcelona//DibaCMS//EN
BEGIN:VEVENT
UID:2004
DTSTAMP:20260420T060608
DTSTART:20201010T123000
DTEND:20201129T140000
SUMMARY:Intrús. Jazz pel forat del pany.
LOCATION:
METHOD:PUBLISH
X-WR-CALNAME:perafita@perafita.cat
X-WR-TIMEZONE:Europe/Madrid
DESCRIPTION:Cicle de concerts en espais patrimonials del Lluçanès.

URI:https://www.perafita.cat/actualitat/agenda/intrus-jazz-pel-forat-del-pany.html
CLASS:PUBLIC
END:VEVENT
END:VCALENDAR
