BEGIN:VCALENDAR
VERSION:2.0
CALSCALE:GREGORIAN
PRODID:-//Diputació de Barcelona//DibaCMS//EN
BEGIN:VEVENT
UID:1997
DTSTAMP:20260420T060503
DTSTART:20201027T173000
DTEND:20201027T193000
SUMMARY:Xerrada "Ni princeps blaus ni princeses promeses"
LOCATION:Pavelló de Perafita 
METHOD:PUBLISH
X-WR-CALNAME:perafita@perafita.cat
X-WR-TIMEZONE:Europe/Madrid
DESCRIPTION:Educar sense estereotips de gènere a la primera infància a càrrec de l'Associació Candela. Inscripcions fins el 20 d'octubre.

URI:https://www.perafita.cat/actualitat/agenda/xerrada-ni-princeps-blaus-ni-princeses-promeses.html
CLASS:PUBLIC
END:VEVENT
END:VCALENDAR
