BEGIN:VCALENDAR
VERSION:2.0
CALSCALE:GREGORIAN
PRODID:-//Diputació de Barcelona//DibaCMS//EN
BEGIN:VEVENT
UID:1980
DTSTAMP:20260420T042339
DTSTART:20200911T190000
DTEND:20200911T210000
SUMMARY:Diada Nacional al Lluçanès 2020. Homenatge a Jaume Puig de Perafita i els seus fills
LOCATION:
METHOD:PUBLISH
X-WR-CALNAME:perafita@perafita.cat
X-WR-TIMEZONE:Europe/Madrid
DESCRIPTION:Homenatge a Jaume Puig de Perafita i els seus fills en motiu de la Diada Nacional de Catalunya.

URI:https://www.perafita.cat/actualitat/agenda/diada-nacional-al-llucanes-2020-homenatge-a-jaume-puig-de-perafita-i-els-seus-fills.html
CLASS:PUBLIC
END:VEVENT
END:VCALENDAR
