BEGIN:VCALENDAR
VERSION:2.0
CALSCALE:GREGORIAN
PRODID:-//Diputació de Barcelona//DibaCMS//EN
BEGIN:VEVENT
UID:1977
DTSTAMP:20260420T164718
DTSTART:20200812T200000
DTEND:20200813T003000
SUMMARY:Gravació del monòleg del Foraster
LOCATION:
METHOD:PUBLISH
X-WR-CALNAME:perafita@perafita.cat
X-WR-TIMEZONE:Europe/Madrid
DESCRIPTION:
URI:https://www.perafita.cat/actualitat/agenda/1977-gravacio-del-monoleg-del-foraster.html
CLASS:PUBLIC
END:VEVENT
END:VCALENDAR
