BEGIN:VCALENDAR
VERSION:2.0
CALSCALE:GREGORIAN
PRODID:-//Diputació de Barcelona//DibaCMS//EN
BEGIN:VEVENT
UID:1967
DTSTAMP:20260420T042117
DTSTART:20200723T090000
DTEND:20200723T130000
SUMMARY:Trobada d'escriptores, il·lustradors, lletraferits i amants dels llibres
LOCATION:Parc dels gronxadors 
METHOD:PUBLISH
X-WR-CALNAME:perafita@perafita.cat
X-WR-TIMEZONE:Europe/Madrid
DESCRIPTION:
URI:https://www.perafita.cat/actualitat/agenda/trobada-descriptores-illustradors-lletraferits-i-amants-dels-llibres.html
CLASS:PUBLIC
END:VEVENT
END:VCALENDAR
