BEGIN:VCALENDAR
VERSION:2.0
CALSCALE:GREGORIAN
PRODID:-//Diputació de Barcelona//DibaCMS//EN
BEGIN:VEVENT
UID:1952
DTSTAMP:20260420T025923
DTSTART:20200628T110000
DTEND:20200628T120000
SUMMARY:Missa cantada pel Cor del Grau
LOCATION:Església 
METHOD:PUBLISH
X-WR-CALNAME:perafita@perafita.cat
X-WR-TIMEZONE:Europe/Madrid
DESCRIPTION:Missa cantada a l'Església de Perafita pel Cor del Grau. 

URI:https://www.perafita.cat/actualitat/agenda/1952-missa-cantada-pel-cor-del-grau.html
CLASS:PUBLIC
END:VEVENT
END:VCALENDAR
