BEGIN:VCALENDAR
VERSION:2.0
CALSCALE:GREGORIAN
PRODID:-//Diputació de Barcelona//DibaCMS//EN
BEGIN:VEVENT
UID:1951
DTSTAMP:20260420T030000
DTSTART:20200627T230000
DTEND:20200628T030000
SUMMARY:Chillout FITAFESTT
LOCATION:Plaça Sant Antoni 
METHOD:PUBLISH
X-WR-CALNAME:perafita@perafita.cat
X-WR-TIMEZONE:Europe/Madrid
DESCRIPTION:Desprès del sopar de Festa Major, Chillout organitzat per FITADESTT

URI:https://www.perafita.cat/actualitat/agenda/chillout-fitafestt.html
CLASS:PUBLIC
END:VEVENT
END:VCALENDAR
