BEGIN:VCALENDAR
VERSION:2.0
CALSCALE:GREGORIAN
PRODID:-//Diputació de Barcelona//DibaCMS//EN
BEGIN:VEVENT
UID:1950
DTSTAMP:20260420T043420
DTSTART:20200627T210000
DTEND:20200627T230000
SUMMARY:Pregó i sopar de Festa Major
LOCATION:Plaça Sant Antoni 
METHOD:PUBLISH
X-WR-CALNAME:perafita@perafita.cat
X-WR-TIMEZONE:Europe/Madrid
DESCRIPTION:Pregó a càrrec de Josep Vall-llosada (Pepis) i sopar de Festa Major organitzat per l'Ajuntament i Fitafestt. Venda de tiquets a Cal Pensiró

URI:https://www.perafita.cat/actualitat/agenda/prego-i-sopar-de-festa-major.html
CLASS:PUBLIC
END:VEVENT
END:VCALENDAR
