BEGIN:VCALENDAR
VERSION:2.0
CALSCALE:GREGORIAN
PRODID:-//Diputació de Barcelona//DibaCMS//EN
BEGIN:VEVENT
UID:1932
DTSTAMP:20260420T165146
DTSTART:20200611T193000
DTEND:20200611T203000
SUMMARY:Webinar: "Aprèn mesures per reduïr el consum energètic"
LOCATION:Per via telemàtica. 
METHOD:PUBLISH
X-WR-CALNAME:perafita@perafita.cat
X-WR-TIMEZONE:Europe/Madrid
DESCRIPTION:Cal apuntar-se prèviament clicant l'enllaç de la dreta.

URI:https://www.perafita.cat/actualitat/agenda/webinar-apren-mesures-per-reduir-el-consum-energetic.html
CLASS:PUBLIC
END:VEVENT
END:VCALENDAR
