BEGIN:VCALENDAR
VERSION:2.0
CALSCALE:GREGORIAN
PRODID:-//Diputació de Barcelona//DibaCMS//EN
BEGIN:VEVENT
UID:1931
DTSTAMP:20260420T043211
DTSTART:20200618T193000
DTEND:20200618T203000
SUMMARY:Webinar: "Autoconsum, plaques solars... de què estem parlant?"
LOCATION:Per via telemàtica. 
METHOD:PUBLISH
X-WR-CALNAME:perafita@perafita.cat
X-WR-TIMEZONE:Europe/Madrid
DESCRIPTION:Cal apuntar-se prèviament clicant l'enllaç de la dreta.

URI:https://www.perafita.cat/actualitat/agenda/webinar-autoconsum-plaques-solars-de-que-estem-parlant.html
CLASS:PUBLIC
END:VEVENT
END:VCALENDAR
