BEGIN:VCALENDAR
VERSION:2.0
CALSCALE:GREGORIAN
PRODID:-//Diputació de Barcelona//DibaCMS//EN
BEGIN:VEVENT
UID:1929
DTSTAMP:20260422T102617
DTSTART:20200609T193000
DTEND:20200609T203000
SUMMARY:Webinar: "És l'hora de posar llum a la teva factura elèctrica"
LOCATION:Per via telemàtica. 
METHOD:PUBLISH
X-WR-CALNAME:perafita@perafita.cat
X-WR-TIMEZONE:Europe/Madrid
DESCRIPTION:Cal apuntar-se prèviament clicant l'enllaç de la dreta.

URI:https://www.perafita.cat/actualitat/agenda/webinar-es-lhora-de-posar-llum-a-la-teva-factura-electrica.html
CLASS:PUBLIC
END:VEVENT
END:VCALENDAR
