BEGIN:VCALENDAR
VERSION:2.0
CALSCALE:GREGORIAN
PRODID:-//Diputació de Barcelona//DibaCMS//EN
BEGIN:VEVENT
UID:1857
DTSTAMP:20260420T074429
DTSTART:20200306T190000
DTEND:20200306T203000
SUMMARY:Pesentació del llibre "3 nits de torb i un cap d'any" de Jordi Cruz i Serra
LOCATION:Biblioteca 
METHOD:PUBLISH
X-WR-CALNAME:perafita@perafita.cat
X-WR-TIMEZONE:Europe/Madrid
DESCRIPTION:Presentació del llibre a càrrec del seu autor, Jordi Cruz i Serra, llicenciat en ciències Físiques i meteoròleg. Divendres dia 6 de març a les 19 H a la biblioteca.

URI:https://www.perafita.cat/actualitat/agenda/pesentacio-del-llibre-3-nits-de-torb-i-un-cap-dany-de-jordi-cruz-i-serra.html
CLASS:PUBLIC
END:VEVENT
END:VCALENDAR
